BEGIN:VCALENDAR
VERSION:2.0
PRODID:-//wp-events-plugin.com//7.2.3.1//EN
BEGIN:VEVENT
UID:186@elkgrovevfw.com
DTSTART;VALUE=DATE:20280612
DTEND;VALUE=DATE:20280613
DTSTAMP:20240510T150123Z
URL:https://elkgrovevfw.com/events/women-veterans-day-2028-06-12/
SUMMARY:Women Veterans Day
DESCRIPTION:A special day to recognize and celebrate the women in uniform.
END:VEVENT
END:VCALENDAR