BEGIN:VCALENDAR
VERSION:2.0
PRODID:-//wp-events-plugin.com//7.2.3.1//EN
BEGIN:VEVENT
UID:266@elkgrovevfw.com
DTSTART;VALUE=DATE:20280902
DTEND;VALUE=DATE:20280903
DTSTAMP:20240510T151307Z
URL:https://elkgrovevfw.com/events/vj-day-2028-09-02/
SUMMARY:VJ Day
DESCRIPTION:
END:VEVENT
END:VCALENDAR