BEGIN:VCALENDAR
VERSION:2.0
PRODID:-//wp-events-plugin.com//7.2.3.1//EN
BEGIN:VEVENT
UID:264@elkgrovevfw.com
DTSTART;VALUE=DATE:20260902
DTEND;VALUE=DATE:20260903
DTSTAMP:20240510T151307Z
URL:https://elkgrovevfw.com/events/vj-day-2026-09-02/
SUMMARY:VJ Day
DESCRIPTION:
END:VEVENT
END:VCALENDAR