BEGIN:VCALENDAR
VERSION:2.0
PRODID:-//wp-events-plugin.com//7.2.3.1//EN
BEGIN:VEVENT
UID:2667@elkgrovevfw.com
DTSTART;VALUE=DATE:20260508
DTEND;VALUE=DATE:20260509
DTSTAMP:20240510T154949Z
URL:https://elkgrovevfw.com/events/victory-in-europe-day-2026-05-08/
SUMMARY:Victory in Europe Day
DESCRIPTION:
END:VEVENT
END:VCALENDAR