BEGIN:VCALENDAR
VERSION:2.0
PRODID:-//wp-events-plugin.com//7.2.3.1//EN
BEGIN:VEVENT
UID:2493@elkgrovevfw.com
DTSTART;VALUE=DATE:20300929
DTEND;VALUE=DATE:20300930
DTSTAMP:20240510T152251Z
URL:https://elkgrovevfw.com/events/vfw-day-2030-09-29/
SUMMARY:VFW Day
DESCRIPTION:On September 29th\, National VFW Day honors the men and women d
 evoted to this valuable organization and those members who have served our
  nation.
END:VEVENT
END:VCALENDAR