BEGIN:VCALENDAR
VERSION:2.0
PRODID:-//wp-events-plugin.com//7.2.3.1//EN
BEGIN:VEVENT
UID:2534@elkgrovevfw.com
DTSTART;VALUE=DATE:20301111
DTEND;VALUE=DATE:20301112
DTSTAMP:20240510T153206Z
URL:https://elkgrovevfw.com/events/veterans-day-2030-11-11/
SUMMARY:Veterans Day
DESCRIPTION:
END:VEVENT
END:VCALENDAR