BEGIN:VCALENDAR
VERSION:2.0
PRODID:-//wp-events-plugin.com//7.2.3.1//EN
BEGIN:VEVENT
UID:2607@elkgrovevfw.com
DTSTART;VALUE=DATE:20300305
DTEND;VALUE=DATE:20300306
DTSTAMP:20240510T154245Z
URL:https://elkgrovevfw.com/events/us-seabee-birthday-2030-03-05/
SUMMARY:US SeaBee Birthday
DESCRIPTION:
END:VEVENT
END:VCALENDAR