BEGIN:VCALENDAR
VERSION:2.0
PRODID:-//wp-events-plugin.com//7.2.3.1//EN
BEGIN:VEVENT
UID:2598@elkgrovevfw.com
DTSTART;VALUE=DATE:20290303
DTEND;VALUE=DATE:20290304
DTSTAMP:20240510T154139Z
URL:https://elkgrovevfw.com/events/us-navy-reserve-birthday-2029-03-03/
SUMMARY:US Navy Reserve Birthday
DESCRIPTION:
END:VEVENT
END:VCALENDAR