BEGIN:VCALENDAR
VERSION:2.0
PRODID:-//wp-events-plugin.com//7.2.3.1//EN
BEGIN:VEVENT
UID:2515@elkgrovevfw.com
DTSTART;VALUE=DATE:20271027
DTEND;VALUE=DATE:20271028
DTSTAMP:20240510T153038Z
URL:https://elkgrovevfw.com/events/us-navy-day-2027-10-27/
SUMMARY:US Navy Day
DESCRIPTION:Navy Day on October 27th salutes all of the military personne
 l who have served\, both past and present\, in the United States Navy.
END:VEVENT
END:VCALENDAR