BEGIN:VCALENDAR
VERSION:2.0
PRODID:-//wp-events-plugin.com//7.2.3.1//EN
BEGIN:VEVENT
UID:2507@elkgrovevfw.com
DTSTART;VALUE=DATE:20271013
DTEND;VALUE=DATE:20271014
DTSTAMP:20240510T152909Z
URL:https://elkgrovevfw.com/events/us-navy-birthday-2027-10-13/
SUMMARY:US Navy Birthday
DESCRIPTION:October 13 marks the birthday of the U.S. Navy\, which traces i
 ts roots back to the early days of the American Revolution. On October 13\
 , 1775\, the Continental Congress established a naval force\, hoping that 
 a small fleet of privateers could attack British commerce and offset Briti
 sh sea power.
END:VEVENT
END:VCALENDAR