BEGIN:VCALENDAR
VERSION:2.0
PRODID:-//wp-events-plugin.com//7.2.3.1//EN
BEGIN:VEVENT
UID:2526@elkgrovevfw.com
DTSTART;VALUE=DATE:20301110
DTEND;VALUE=DATE:20301111
DTSTAMP:20240510T153119Z
URL:https://elkgrovevfw.com/events/us-marine-corps-birthday-2030-11-10/
SUMMARY:US Marine Corps Birthday
DESCRIPTION:
END:VEVENT
END:VCALENDAR