BEGIN:VCALENDAR
VERSION:2.0
PRODID:-//wp-events-plugin.com//7.2.3.1//EN
BEGIN:VEVENT
UID:2522@elkgrovevfw.com
DTSTART;VALUE=DATE:20261110
DTEND;VALUE=DATE:20261111
DTSTAMP:20240510T153119Z
URL:https://elkgrovevfw.com/events/us-marine-corps-birthday-2026-11-10/
SUMMARY:US Marine Corps Birthday
DESCRIPTION:
END:VEVENT
END:VCALENDAR