BEGIN:VCALENDAR
VERSION:2.0
PRODID:-//wp-events-plugin.com//7.2.3.1//EN
BEGIN:VEVENT
UID:2589@elkgrovevfw.com
DTSTART;VALUE=DATE:20280219
DTEND;VALUE=DATE:20280220
DTSTAMP:20240510T154055Z
URL:https://elkgrovevfw.com/events/us-coast-guard-birthday-2028-02-19/
SUMMARY:US Coast Guard Birthday
DESCRIPTION:
END:VEVENT
END:VCALENDAR