BEGIN:VCALENDAR
VERSION:2.0
PRODID:-//wp-events-plugin.com//7.2.3.1//EN
BEGIN:VEVENT
UID:2588@elkgrovevfw.com
DTSTART;VALUE=DATE:20270219
DTEND;VALUE=DATE:20270220
DTSTAMP:20240510T154055Z
URL:https://elkgrovevfw.com/events/us-coast-guard-birthday-2027-02-19/
SUMMARY:US Coast Guard Birthday
DESCRIPTION:
END:VEVENT
END:VCALENDAR