BEGIN:VCALENDAR
VERSION:2.0
PRODID:-//wp-events-plugin.com//7.2.3.1//EN
BEGIN:VEVENT
UID:284@elkgrovevfw.com
DTSTART;VALUE=DATE:20300918
DTEND;VALUE=DATE:20300919
DTSTAMP:20240510T151607Z
URL:https://elkgrovevfw.com/events/us-air-force-birthday-2030-09-18/
SUMMARY:US Air Force Birthday
DESCRIPTION:
END:VEVENT
END:VCALENDAR