BEGIN:VCALENDAR
VERSION:2.0
PRODID:-//wp-events-plugin.com//7.2.3.1//EN
BEGIN:VEVENT
UID:2574@elkgrovevfw.com
DTSTART;VALUE=DATE:20291220
DTEND;VALUE=DATE:20291221
DTSTAMP:20240510T153459Z
URL:https://elkgrovevfw.com/events/space-force-birthday-2029-12-20/
SUMMARY:Space Force Birthday
DESCRIPTION:
END:VEVENT
END:VCALENDAR