BEGIN:VCALENDAR
VERSION:2.0
PRODID:-//wp-events-plugin.com//7.2.3.1//EN
BEGIN:VEVENT
UID:2660@elkgrovevfw.com
DTSTART;VALUE=DATE:20270501
DTEND;VALUE=DATE:20270502
DTSTAMP:20240510T154912Z
URL:https://elkgrovevfw.com/events/silver-star-service-day-2027-05-01/
SUMMARY:Silver Star Service Day
DESCRIPTION:U.S. Silver Star Banner Day is celebrated on May 1. The day 
 honors the sacrifices of the U.S. military personnel as well as those awar
 ded with the Silver Star.
END:VEVENT
END:VCALENDAR