BEGIN:VCALENDAR
VERSION:2.0
PRODID:-//wp-events-plugin.com//7.2.3.1//EN
BEGIN:VEVENT
UID:242@elkgrovevfw.com
DTSTART;VALUE=DATE:20280802
DTEND;VALUE=DATE:20280803
DTSTAMP:20240510T151110Z
URL:https://elkgrovevfw.com/events/purple-heart-day-2028-08-02/
SUMMARY:Purple Heart Day
DESCRIPTION:
END:VEVENT
END:VCALENDAR