BEGIN:VCALENDAR
VERSION:2.0
PRODID:-//wp-events-plugin.com//7.2.3.1//EN
BEGIN:VEVENT
UID:2683@elkgrovevfw.com
DTSTART;VALUE=DATE:20260919
DTEND;VALUE=DATE:20260920
DTSTAMP:20240513T210920Z
URL:https://elkgrovevfw.com/events/pow-mia-day-of-rememberance-2026-09-19/
SUMMARY:POW/MIA Day Ceremony
DESCRIPTION:The POW/MIA Day is the third Friday of September. We will hold 
 the ceremony on the Saturday closest to that date\, generally the followin
 g day at the Flag Poles at District 56\, Elk Grove Community Center and th
 e Veterans Center at 10:00 am.\n\n&nbsp\;
LOCATION:Veterans Hall @ District 56\, 8230 Civic Center Drive\, Elk Grove\
 , California\, 95757\, United Kingdom
X-APPLE-STRUCTURED-LOCATION;VALUE=URI;X-ADDRESS=8230 Civic Center Drive\, E
 lk Grove\, California\, 95757\, United Kingdom;X-APPLE-RADIUS=100;X-TITLE=
 Veterans Hall @ District 56:geo:0,0
END:VEVENT
END:VCALENDAR