BEGIN:VCALENDAR
VERSION:2.0
PRODID:-//wp-events-plugin.com//7.2.3.1//EN
BEGIN:VEVENT
UID:2548@elkgrovevfw.com
DTSTART;VALUE=DATE:20271207
DTEND;VALUE=DATE:20271208
DTSTAMP:20240510T153316Z
URL:https://elkgrovevfw.com/events/pearl-harbor-day-2027-12-07/
SUMMARY:Pearl Harbor Day
DESCRIPTION:
END:VEVENT
END:VCALENDAR