BEGIN:VCALENDAR
VERSION:2.0
PRODID:-//wp-events-plugin.com//7.2.3.1//EN
BEGIN:VEVENT
UID:274@elkgrovevfw.com
DTSTART;VALUE=DATE:20280911
DTEND;VALUE=DATE:20280912
DTSTAMP:20240510T151347Z
URL:https://elkgrovevfw.com/events/patriot-day-2028-09-11/
SUMMARY:Patriot Day
DESCRIPTION:
END:VEVENT
END:VCALENDAR