BEGIN:VCALENDAR
VERSION:2.0
PRODID:-//wp-events-plugin.com//7.2.3.1//EN
BEGIN:VEVENT
UID:2564@elkgrovevfw.com
DTSTART;VALUE=DATE:20271214
DTEND;VALUE=DATE:20271215
DTSTAMP:20240510T153426Z
URL:https://elkgrovevfw.com/events/national-wreaths-across-america-day-202
 7-12-14/
SUMMARY:National Wreaths Across America Day
DESCRIPTION:
END:VEVENT
END:VCALENDAR