BEGIN:VCALENDAR
VERSION:2.0
PRODID:-//wp-events-plugin.com//7.2.3.1//EN
BEGIN:VEVENT
UID:2638@elkgrovevfw.com
DTSTART;VALUE=DATE:20290329
DTEND;VALUE=DATE:20290330
DTSTAMP:20240510T154544Z
URL:https://elkgrovevfw.com/events/national-vietnam-veterans-day-2029-03-2
 9/
SUMMARY:National Vietnam Veterans Day
DESCRIPTION:
END:VEVENT
END:VCALENDAR