BEGIN:VCALENDAR
VERSION:2.0
PRODID:-//wp-events-plugin.com//7.2.3.1//EN
BEGIN:VEVENT
UID:2620@elkgrovevfw.com
DTSTART;VALUE=DATE:20270318
DTEND;VALUE=DATE:20270319
DTSTAMP:20240510T154426Z
URL:https://elkgrovevfw.com/events/national-supreme-sacrafice-day-2027-03-
 18/
SUMMARY:National Supreme Sacrafice Day
DESCRIPTION:
END:VEVENT
END:VCALENDAR