BEGIN:VCALENDAR
VERSION:2.0
PRODID:-//wp-events-plugin.com//7.2.3.1//EN
BEGIN:VEVENT
UID:2676@elkgrovevfw.com
DTSTART;VALUE=DATE:20270917
DTEND;VALUE=DATE:20270918
DTSTAMP:20240513T210228Z
URL:https://elkgrovevfw.com/events/national-pow-mia-day-2027-09-17/
SUMMARY:National POW/MIA Day
DESCRIPTION:The 3rd Friday of September is the official day of rememberence
  of our prisoners of war and missing in action soldiers. Generally\, our l
 ocal VFW\, Marine Corps League and American Legion will hold an official c
 eremony on the closest Saturday to the third Friday of September.\n\nThat 
 ceremony has been held for the past few years at the Flags at District 26\
 , the Elk Grove Community Center\, at 10:00 am.
END:VEVENT
END:VCALENDAR