BEGIN:VCALENDAR
VERSION:2.0
PRODID:-//wp-events-plugin.com//7.2.3.1//EN
BEGIN:VEVENT
UID:2631@elkgrovevfw.com
DTSTART;VALUE=DATE:20300325
DTEND;VALUE=DATE:20300326
DTSTAMP:20240510T154505Z
URL:https://elkgrovevfw.com/events/national-medal-of-honor-day-2030-03-25/
SUMMARY:National Medal of Honor Day
DESCRIPTION:
END:VEVENT
END:VCALENDAR