BEGIN:VCALENDAR
VERSION:2.0
PRODID:-//wp-events-plugin.com//7.2.3.1//EN
BEGIN:VEVENT
UID:2629@elkgrovevfw.com
DTSTART;VALUE=DATE:20280325
DTEND;VALUE=DATE:20280326
DTSTAMP:20240510T154505Z
URL:https://elkgrovevfw.com/events/national-medal-of-honor-day-2028-03-25/
SUMMARY:National Medal of Honor Day
DESCRIPTION:
END:VEVENT
END:VCALENDAR