BEGIN:VCALENDAR
VERSION:2.0
PRODID:-//wp-events-plugin.com//7.2.3.1//EN
BEGIN:VEVENT
UID:220@elkgrovevfw.com
DTSTART;VALUE=DATE:20300727
DTEND;VALUE=DATE:20300728
DTSTAMP:20240510T150912Z
URL:https://elkgrovevfw.com/events/national-korean-war-veterans-armistice-
 day-2030-07-27/
SUMMARY:National Korean War Veterans Armistice Day
DESCRIPTION:
END:VEVENT
END:VCALENDAR