BEGIN:VCALENDAR
VERSION:2.0
PRODID:-//wp-events-plugin.com//7.2.3.1//EN
BEGIN:VEVENT
UID:2615@elkgrovevfw.com
DTSTART;VALUE=DATE:20300313
DTEND;VALUE=DATE:20300314
DTSTAMP:20240510T154329Z
URL:https://elkgrovevfw.com/events/national-k-9-veterans-day-2030-03-13/
SUMMARY:National K-9 Veterans Day
DESCRIPTION:
END:VEVENT
END:VCALENDAR