BEGIN:VCALENDAR
VERSION:2.0
PRODID:-//wp-events-plugin.com//7.2.3.1//EN
BEGIN:VEVENT
UID:2558@elkgrovevfw.com
DTSTART;VALUE=DATE:20291213
DTEND;VALUE=DATE:20291214
DTSTAMP:20240510T153354Z
URL:https://elkgrovevfw.com/events/national-guard-birthday-2029-12-13/
SUMMARY:National Guard Birthday
DESCRIPTION:
END:VEVENT
END:VCALENDAR