BEGIN:VCALENDAR
VERSION:2.0
PRODID:-//wp-events-plugin.com//7.2.3.1//EN
BEGIN:VEVENT
UID:2556@elkgrovevfw.com
DTSTART;VALUE=DATE:20271213
DTEND;VALUE=DATE:20271214
DTSTAMP:20240510T153354Z
URL:https://elkgrovevfw.com/events/national-guard-birthday-2027-12-13/
SUMMARY:National Guard Birthday
DESCRIPTION:
END:VEVENT
END:VCALENDAR