BEGIN:VCALENDAR
VERSION:2.0
PRODID:-//wp-events-plugin.com//7.2.3.1//EN
BEGIN:VEVENT
UID:2483@elkgrovevfw.com
DTSTART;VALUE=DATE:20280924
DTEND;VALUE=DATE:20280925
DTSTAMP:20240510T152131Z
URL:https://elkgrovevfw.com/events/national-gold-star-mothers-day-2028-09-
 24/
SUMMARY:National Gold Star Mother's Day
DESCRIPTION:On the last Sunday in September\, Gold Star Mother's and Family
  Day honors the mothers\, fathers\, and families of fallen military servi
 ce members. Also known as National Gold Star Mother's Day\, the day serves
  as a reminder of the losses suffered by military families.
END:VEVENT
END:VCALENDAR