BEGIN:VCALENDAR
VERSION:2.0
PRODID:-//wp-events-plugin.com//7.2.3.1//EN
BEGIN:VEVENT
UID:232@elkgrovevfw.com
DTSTART;VALUE=DATE:20260804
DTEND;VALUE=DATE:20260805
DTSTAMP:20240510T151028Z
URL:https://elkgrovevfw.com/events/national-coast-guard-birthday-2026-08-0
 4/
SUMMARY:National Coast Guard Birthday
DESCRIPTION:
END:VEVENT
END:VCALENDAR