BEGIN:VCALENDAR
VERSION:2.0
PRODID:-//wp-events-plugin.com//7.2.3.1//EN
BEGIN:VEVENT
UID:2654@elkgrovevfw.com
DTSTART;VALUE=DATE:20290423
DTEND;VALUE=DATE:20290424
DTSTAMP:20240510T154743Z
URL:https://elkgrovevfw.com/events/national-army-reserve-day-2029-04-23/
SUMMARY:National Army Reserve Day
DESCRIPTION:
END:VEVENT
END:VCALENDAR