BEGIN:VCALENDAR
VERSION:2.0
PRODID:-//wp-events-plugin.com//7.2.3.1//EN
BEGIN:VEVENT
UID:250@elkgrovevfw.com
DTSTART;VALUE=DATE:20280816
DTEND;VALUE=DATE:20280817
DTSTAMP:20240510T151149Z
URL:https://elkgrovevfw.com/events/national-airborne-day-2028-08-16/
SUMMARY:National Airborne Day
DESCRIPTION:
END:VEVENT
END:VCALENDAR