BEGIN:VCALENDAR
VERSION:2.0
PRODID:-//wp-events-plugin.com//7.2.3.1//EN
BEGIN:VEVENT
UID:2647@elkgrovevfw.com
DTSTART;VALUE=DATE:20300414
DTEND;VALUE=DATE:20300415
DTSTAMP:20240510T154703Z
URL:https://elkgrovevfw.com/events/national-air-force-reserves-day-2030-04
 -14/
SUMMARY:National Air Force Reserves Day
DESCRIPTION:
END:VEVENT
END:VCALENDAR