BEGIN:VCALENDAR
VERSION:2.0
PRODID:-//wp-events-plugin.com//7.2.3.1//EN
BEGIN:VEVENT
UID:2501@elkgrovevfw.com
DTSTART;VALUE=DATE:20301013
DTEND;VALUE=DATE:20301014
DTSTAMP:20240510T152658Z
URL:https://elkgrovevfw.com/events/ms-veteran-america-day-2030-10-13/
SUMMARY:Ms. Veteran America Day
DESCRIPTION:The purpose of this event is to showcase “The Woman Beyond th
 e Uniform".\n\nAlong with being Soldiers\, Marines\, Airmen\, Sailors\, an
 d Coasties\, we are also Mothers\, Wives\, Daughters\, and Sisters!\n\nPro
 ceeds from this event provide housing for homeless women Veterans and thei
 r children throughout the USA.\n\nhttps://www.msveteranamerica.org/\n\nThe
  date does change from year to year so you should check the website for up
 dated info.
END:VEVENT
END:VCALENDAR