BEGIN:VCALENDAR
VERSION:2.0
PRODID:-//wp-events-plugin.com//7.2.3.1//EN
BEGIN:VEVENT
UID:34@elkgrovevfw.com
DTSTART:20270114T180000Z
DTEND:20270114T180000Z
DTSTAMP:20240510T144047Z
URL:https://elkgrovevfw.com/events/monthly-meeting-2027-01-14/
SUMMARY:Monthly Social Hour
DESCRIPTION:Join us for our social hour before our monthly meeting.
LOCATION:Veterans Hall @ District 56\, 8230 Civic Center Drive\, Elk Grove\
 , California\, 95757\, United Kingdom
X-APPLE-STRUCTURED-LOCATION;VALUE=URI;X-ADDRESS=8230 Civic Center Drive\, E
 lk Grove\, California\, 95757\, United Kingdom;X-APPLE-RADIUS=100;X-TITLE=
 Veterans Hall @ District 56:geo:0,0
END:VEVENT
END:VCALENDAR