BEGIN:VCALENDAR
VERSION:2.0
PRODID:-//wp-events-plugin.com//7.2.3.1//EN
BEGIN:VEVENT
UID:105@elkgrovevfw.com
DTSTART:20261008T190000Z
DTEND:20261008T200000Z
DTSTAMP:20240510T144301Z
URL:https://elkgrovevfw.com/events/monthly-business-meeting-2026-10-08/
SUMMARY:Monthly Business Meeting
DESCRIPTION:Join us for our monthly business meeting on the 2nd Thursday of
  each month following our social hour.
LOCATION:Veterans Hall @ District 56\, 8230 Civic Center Drive\, Elk Grove\
 , California\, 95757\, United Kingdom
X-APPLE-STRUCTURED-LOCATION;VALUE=URI;X-ADDRESS=8230 Civic Center Drive\, E
 lk Grove\, California\, 95757\, United Kingdom;X-APPLE-RADIUS=100;X-TITLE=
 Veterans Hall @ District 56:geo:0,0
END:VEVENT
END:VCALENDAR