BEGIN:VCALENDAR
VERSION:2.0
PRODID:-//wp-events-plugin.com//7.2.3.1//EN
BEGIN:VEVENT
UID:154@elkgrovevfw.com
DTSTART;VALUE=DATE:20280510
DTEND;VALUE=DATE:20280511
DTSTAMP:20240510T144950Z
URL:https://elkgrovevfw.com/events/military-spouse-day-2028-05-10/
SUMMARY:Military Spouse Day
DESCRIPTION:As any one who has served or is serving in the military\, a hug
 e burdon usually falls on the spouse\, either the husband or the wife\, as
  their partner is often away from home or the family is uprooted and reass
 igned to a new base or post.\n\nWe want to remember to say thank you to al
 l of the spouses of our military members for the awesome support that you 
 provide to your spouse and your family.
END:VEVENT
END:VCALENDAR