BEGIN:VCALENDAR
VERSION:2.0
PRODID:-//wp-events-plugin.com//7.2.3.1//EN
BEGIN:VEVENT
UID:178@elkgrovevfw.com
DTSTART;VALUE=DATE:20280529
DTEND;VALUE=DATE:20280530
DTSTAMP:20240510T145838Z
URL:https://elkgrovevfw.com/events/memorial-day-2028-05-29/
SUMMARY:Memorial Day
DESCRIPTION:A day of remberence for members of  our Armed Forces who have 
 passed away.  It is always celebrated on the last Monday of May each year
 .
END:VEVENT
END:VCALENDAR