BEGIN:VCALENDAR
VERSION:2.0
PRODID:-//wp-events-plugin.com//7.2.3.1//EN
BEGIN:VEVENT
UID:256@elkgrovevfw.com
DTSTART;VALUE=DATE:20260829
DTEND;VALUE=DATE:20260830
DTSTAMP:20240510T151229Z
URL:https://elkgrovevfw.com/events/marine-forces-reserve-birthday-2026-08-
 29/
SUMMARY:Marine Forces Reserve Birthday
DESCRIPTION:
END:VEVENT
END:VCALENDAR