BEGIN:VCALENDAR
VERSION:2.0
PRODID:-//wp-events-plugin.com//7.2.3.1//EN
BEGIN:VEVENT
UID:202@elkgrovevfw.com
DTSTART;VALUE=DATE:20280614
DTEND;VALUE=DATE:20280615
DTSTAMP:20240510T150544Z
URL:https://elkgrovevfw.com/events/flag-day-2028-06-14/
SUMMARY:Flag Day
DESCRIPTION:Flag Day\, in the United States\, a day honouring the national
  flag\, observed on June 14. The holiday commemorates the date in 1777 whe
 n the United States approved the design for its first national flag.
END:VEVENT
END:VCALENDAR