BEGIN:VCALENDAR
VERSION:2.0
PRODID:-//wp-events-plugin.com//7.2.3.1//EN
BEGIN:VEVENT
UID:208@elkgrovevfw.com
DTSTART;VALUE=DATE:20260623
DTEND;VALUE=DATE:20260624
DTSTAMP:20240510T150726Z
URL:https://elkgrovevfw.com/events/coast-guard-auxilliary-day-2026-06-23/
SUMMARY:Coast Guard Auxilliary Day
DESCRIPTION:February 19 is formally recognized as the birth of the Coast Gu
 ard Reserve while June 23 is recognized as birthday of the Coast Guard Au
 xiliary.
END:VEVENT
END:VCALENDAR