BEGIN:VCALENDAR
VERSION:2.0
PRODID:-//wp-events-plugin.com//7.2.3.1//EN
BEGIN:VEVENT
UID:2541@elkgrovevfw.com
DTSTART;VALUE=DATE:20281201
DTEND;VALUE=DATE:20281202
DTSTAMP:20240510T153240Z
URL:https://elkgrovevfw.com/events/civil-air-patrol-usaf-auxiliary-birthda
 y-2028-12-01/
SUMMARY:Civil Air Patrol (USAF Auxiliary) Birthday
DESCRIPTION:
END:VEVENT
END:VCALENDAR