BEGIN:VCALENDAR
VERSION:2.0
PRODID:-//wp-events-plugin.com//7.2.3.1//EN
BEGIN:VEVENT
UID:162@elkgrovevfw.com
DTSTART;VALUE=DATE:20280513
DTEND;VALUE=DATE:20280514
DTSTAMP:20240510T145252Z
URL:https://elkgrovevfw.com/events/children-of-fallen-patriots-day-2028-05
 -13/
SUMMARY:Children of Fallen Patriot's Day
DESCRIPTION:A special day to remember the children of our fallen patriots. 
 Please take the time to reach out to the children of our fallen patriots.
END:VEVENT
END:VCALENDAR