BEGIN:VCALENDAR
VERSION:2.0
PRODID:-//wp-events-plugin.com//7.2.3.1//EN
BEGIN:VEVENT
UID:192@elkgrovevfw.com
DTSTART;VALUE=DATE:20260614
DTEND;VALUE=DATE:20260615
DTSTAMP:20240510T150430Z
URL:https://elkgrovevfw.com/events/army-birthday-2026-06-14/
SUMMARY:Army Birthday
DESCRIPTION:The U.S. Army was founded on 14 June 1775\, when the Continent
 al Congress authorized enlistment of expert riflemen to serve the United C
 olonies for one year.
END:VEVENT
END:VCALENDAR