BEGIN:VCALENDAR
VERSION:2.0
PRODID:-//wp-events-plugin.com//7.2.3.1//EN
BEGIN:VEVENT
UID:170@elkgrovevfw.com
DTSTART;VALUE=DATE:20280518
DTEND;VALUE=DATE:20280519
DTSTAMP:20240510T145529Z
URL:https://elkgrovevfw.com/events/armed-forces-day-2028-05-18/
SUMMARY:Armed Forces Day
DESCRIPTION:Today is the official day of recognition to everyone who is ser
 ving in the Armed Forces of the United States of America.  Every day is t
 he day to say thank you to a member of our Armed Forces.
END:VEVENT
END:VCALENDAR