BEGIN:VCALENDAR
VERSION:2.0
PRODID:-//wp-events-plugin.com//7.2.3.1//EN
BEGIN:VEVENT
UID:226@elkgrovevfw.com
DTSTART;VALUE=DATE:20280729
DTEND;VALUE=DATE:20280730
DTSTAMP:20240510T150945Z
URL:https://elkgrovevfw.com/events/anniversary-of-the-army-chaplain-corps-
 2028-07-29/
SUMMARY:Anniversary of the Army Chaplain Corps
DESCRIPTION:
END:VEVENT
END:VCALENDAR